BEGIN:VCALENDAR
VERSION:2.0
PRODID:Trabuco Canyon Water District Calendar Creator
METHOD:PUBLISH
BEGIN:VEVENT
DTSTAMP:20260218T101225
DTSTART:20260224T183000
DTEND:20260224T200000
SUMMARY:Chat with TCWD
DESCRIPTION:
X-ALT-DESC;FMTTYPE=text/html:
LOCATION:TCWD Administration Facility\, 32003 Dove Canyon Drive Trabuco Canyon\, California 92679
CLASS:PUBLIC
END:VEVENT
END:VCALENDAR
