BEGIN:VCALENDAR
VERSION:2.0
PRODID:Trabuco Canyon Water District Calendar Creator
METHOD:PUBLISH
BEGIN:VEVENT
DTSTAMP:20210709T084649
DTSTART:20210414T130000
DTEND:20210414T140000
SUMMARY:Finance/Audit Committee Meeting
DESCRIPTION:<p><b>AGENDA NOTE:<br></b><i>Meeting attendees should be aware that the meetings of the Board of Directors are, as required by law, open to the public and the District has very limited powers to regulate who attends Board meetings.</i></p><p><b>CONFERENCE CALL INFORMATION<br></b><i>Due to the spread of COVID-19 and as authorized by the Governor’s Executive Order, Trabuco Canyon Water District will be holding all upcoming public meetings by Go To Meeting, and will be available by either computer or telephone audio as follows:</i></p><p><b><i>Computer Audio:</i></b><i> You can join the meeting from your computer, tablet, or smartphone by clicking on the following link: </i><i><a href="https://zoom.us/j/96930019067">https://zoom.us/j/96930019067</a><br></i></p><p><i>&nbsp;</i><b><i>Telephone Audio:</i></b><i> &nbsp;&nbsp;&nbsp;&nbsp;&nbsp;&nbsp;&nbsp;&nbsp;&nbsp;&nbsp; </i><i>1 (669) 900-6833</i></p><p><b><i>Access Code:</i></b><i> &nbsp;&nbsp;&nbsp;&nbsp;&nbsp;&nbsp;&nbsp;&nbsp;&nbsp;&nbsp;&nbsp;&nbsp;&nbsp;&nbsp;&nbsp;&nbsp;&nbsp;&nbsp;&nbsp;&nbsp; </i><i>969-3001-9067</i></p>
X-ALT-DESC;FMTTYPE=text/html:<p><b>AGENDA NOTE:<br></b><i>Meeting attendees should be aware that the meetings of the Board of Directors are, as required by law, open to the public and the District has very limited powers to regulate who attends Board meetings.</i></p><p><b>CONFERENCE CALL INFORMATION<br></b><i>Due to the spread of COVID-19 and as authorized by the Governor’s Executive Order, Trabuco Canyon Water District will be holding all upcoming public meetings by Go To Meeting, and will be available by either computer or telephone audio as follows:</i></p><p><b><i>Computer Audio:</i></b><i> You can join the meeting from your computer, tablet, or smartphone by clicking on the following link: </i><i><a href="https://zoom.us/j/96930019067">https://zoom.us/j/96930019067</a><br></i></p><p><i>&nbsp;</i><b><i>Telephone Audio:</i></b><i> &nbsp;&nbsp;&nbsp;&nbsp;&nbsp;&nbsp;&nbsp;&nbsp;&nbsp;&nbsp; </i><i>1 (669) 900-6833</i></p><p><b><i>Access Code:</i></b><i> &nbsp;&nbsp;&nbsp;&nbsp;&nbsp;&nbsp;&nbsp;&nbsp;&nbsp;&nbsp;&nbsp;&nbsp;&nbsp;&nbsp;&nbsp;&nbsp;&nbsp;&nbsp;&nbsp;&nbsp; </i><i>969-3001-9067</i></p>
LOCATION:VIDEO/AUDIO BROADCAST\, 
CLASS:PUBLIC
END:VEVENT
END:VCALENDAR
