BEGIN:VCALENDAR
VERSION:2.0
PRODID:Trabuco Canyon Water District Calendar Creator
METHOD:PUBLISH
BEGIN:VEVENT
DTSTAMP:20200522T090454
DTSTART:20200415T190000
DTEND:20200415T210000
SUMMARY:Regular Board Meeting
DESCRIPTION:<p><b>CONFERENCE CALL INFORMATION<br></b><i>Meeting Dial-In Number:&nbsp;&nbsp;&nbsp;&nbsp;&nbsp;&nbsp;&nbsp;&nbsp;&nbsp;&nbsp;&nbsp;&nbsp;&nbsp; 1 (877) 309-2073<br></i><i>Access Code:&nbsp;&nbsp;&nbsp;&nbsp;&nbsp;&nbsp;&nbsp;&nbsp;&nbsp;&nbsp;&nbsp;&nbsp;&nbsp;&nbsp;&nbsp;&nbsp;&nbsp;&nbsp;&nbsp;&nbsp;&nbsp;&nbsp;&nbsp;&nbsp;&nbsp;&nbsp;&nbsp;&nbsp;&nbsp;&nbsp;&nbsp;&nbsp;&nbsp;&nbsp;&nbsp;&nbsp;&nbsp; 177-055-533<br></i><i>Meeting materials are available at </i><a href="https://www.tcwd.ca.gov/home"><i>https://www.tcwd.ca.gov/home</i></a></p>
X-ALT-DESC;FMTTYPE=text/html:<p><b>CONFERENCE CALL INFORMATION<br></b><i>Meeting Dial-In Number:&nbsp;&nbsp;&nbsp;&nbsp;&nbsp;&nbsp;&nbsp;&nbsp;&nbsp;&nbsp;&nbsp;&nbsp;&nbsp; 1 (877) 309-2073<br></i><i>Access Code:&nbsp;&nbsp;&nbsp;&nbsp;&nbsp;&nbsp;&nbsp;&nbsp;&nbsp;&nbsp;&nbsp;&nbsp;&nbsp;&nbsp;&nbsp;&nbsp;&nbsp;&nbsp;&nbsp;&nbsp;&nbsp;&nbsp;&nbsp;&nbsp;&nbsp;&nbsp;&nbsp;&nbsp;&nbsp;&nbsp;&nbsp;&nbsp;&nbsp;&nbsp;&nbsp;&nbsp;&nbsp; 177-055-533<br></i><i>Meeting materials are available at </i><a href="https://www.tcwd.ca.gov/home"><i>https://www.tcwd.ca.gov/home</i></a></p>
LOCATION:TCWD Administration Facility\, 32003 Dove Canyon Drive Trabuco Canyon\, California 92679
CLASS:PUBLIC
END:VEVENT
END:VCALENDAR
