BEGIN:VCALENDAR
VERSION:2.0
PRODID:Trabuco Canyon Water District Calendar Creator
METHOD:PUBLISH
BEGIN:VEVENT
DTSTAMP:20200221T154224
DTSTART:20191009T180000
DTEND:20191009T190000
SUMMARY:Finance/Audit Committee
DESCRIPTION:
X-ALT-DESC;FMTTYPE=text/html:
LOCATION:TCWD Administration Facility\, 32003 Dove Canyon Drive Trabuco Canyon\, California 92679
CLASS:PUBLIC
END:VEVENT
END:VCALENDAR
