BEGIN:VCALENDAR
VERSION:2.0
PRODID:Trabuco Canyon Water District Calendar Creator
METHOD:PUBLISH
BEGIN:VEVENT
DTSTAMP:20160215T163718
DTSTART:20160216T120000
DTEND:20160216T235900
SUMMARY:South Orange County Agencies Meeting
DESCRIPTION:
X-ALT-DESC;FMTTYPE=text/html:
LOCATION:30111 Crown Valley Parkway\, Laguna Niguel Laguna Niguel\, California 92677
CLASS:PUBLIC
END:VEVENT
END:VCALENDAR
